BEGIN:VCALENDAR
VERSION:2.0
PRODID:-//Haberkorn Kalender//30 Jahre Haberkorn Kalender//DE
CALSCALE:GREGORIAN
METHOD:PUBLISH
BEGIN:VTIMEZONE
TZID:Europe/Vienna
X-LIC-LOCATION:Europe/Vienna
BEGIN:DAYLIGHT
TZOFFSETFROM:+0100
TZOFFSETTO:+0200
TZNAME:CEST
DTSTART:19700329T020000
RRULE:FREQ=YEARLY;BYMONTH=3;BYDAY=-1SU
END:DAYLIGHT
BEGIN:STANDARD
TZOFFSETFROM:+0200
TZOFFSETTO:+0100
TZNAME:CET
DTSTART:19701025T030000
RRULE:FREQ=YEARLY;BYMONTH=10;BYDAY=-1SU
END:STANDARD
END:VTIMEZONE
BEGIN:VEVENT
UID:20260618T160000-30jahre@haberkorn-kalender.at
DTSTAMP:20260319T120547Z
DTSTART;TZID=Europe/Vienna:20260618T160000
DTEND;TZID=Europe/Vienna:20260618T220000
SUMMARY:30 Jahre Haberkorn Kalender Sommerfest
LOCATION:Kramlehnerweg 6\, 4060 Leonding
DESCRIPTION:30 Jahre Haberkorn Kalender – Sommerfest in Leonding.\n\nWir freuen uns auf einen entspannten Nachmittag und Abend mit gutem Essen\, sommerlichen Drinks\, anregenden Gesprächen und angenehmer Atmosphäre.\n\nAnmeldung: https://30-jahre.haberkorn-kalender.at/
URL:https://30-jahre.haberkorn-kalender.at/
STATUS:CONFIRMED
TRANSP:OPAQUE
BEGIN:VALARM
TRIGGER:-P1D
ACTION:DISPLAY
DESCRIPTION:Erinnerung: 30 Jahre Haberkorn Kalender Sommerfest
END:VALARM
END:VEVENT
END:VCALENDAR
